BEGIN:VCALENDAR
VERSION:2.0
PRODID:-//wp-events-plugin.com//7.2.3.1//EN
TZID:Europe/Berlin
X-WR-TIMEZONE:Europe/Berlin
BEGIN:VEVENT
UID:236@jaegerschaft-gifhorn.de
DTSTART;TZID=Europe/Berlin:20260330T190000
DTEND;TZID=Europe/Berlin:20260511T210000
DTSTAMP:20260105T201355Z
URL:https://www.jaegerschaft-gifhorn.de/veranstaltungen/anfaengerkurs-jagd
 hornblasen-2
SUMMARY:Anfängerkurs Jagdhornblasen
DESCRIPTION:Einstieg in das Jagdhornblasen für Anfänger.\nVom ersten Ton 
 zum ersten Signal.\n\nLeitung:\nGünther Kaufmann\n\nTermine:\n5 x montags
 \, jeweils 19:00 Uhr\n30.03\, 20.04\, 27.04\, 04.05\, 11.05\n\nDauer ca. 2
  Stunden\n\nTeilnahmebedingungen:\neigenes Horn ist nicht erforderlich
CATEGORIES:Jagdhornblasen
LOCATION:Schulungszentrum Westerbeck\,  \, Westerbeck\, 38524\, Deutschland
X-APPLE-STRUCTURED-LOCATION;VALUE=URI;X-ADDRESS= \, Westerbeck\, 38524\, De
 utschland;X-APPLE-RADIUS=100;X-TITLE=Schulungszentrum Westerbeck:geo:0,0
END:VEVENT
BEGIN:VTIMEZONE
TZID:Europe/Berlin
X-LIC-LOCATION:Europe/Berlin
BEGIN:DAYLIGHT
DTSTART:20260329T030000
TZOFFSETFROM:+0100
TZOFFSETTO:+0200
TZNAME:CEST
END:DAYLIGHT
END:VTIMEZONE
END:VCALENDAR